BEGIN:VCALENDAR
VERSION:2.0
PRODID:-//Plumbline Ministries - ECPv6.15.20//NONSGML v1.0//EN
CALSCALE:GREGORIAN
METHOD:PUBLISH
X-WR-CALNAME:Plumbline Ministries
X-ORIGINAL-URL:https://plumblinem.com
X-WR-CALDESC:Events for Plumbline Ministries
REFRESH-INTERVAL;VALUE=DURATION:PT1H
X-Robots-Tag:noindex
X-PUBLISHED-TTL:PT1H
BEGIN:VTIMEZONE
TZID:America/Chicago
BEGIN:DAYLIGHT
TZOFFSETFROM:-0600
TZOFFSETTO:-0500
TZNAME:CDT
DTSTART:20250309T080000
END:DAYLIGHT
BEGIN:STANDARD
TZOFFSETFROM:-0500
TZOFFSETTO:-0600
TZNAME:CST
DTSTART:20251102T070000
END:STANDARD
BEGIN:DAYLIGHT
TZOFFSETFROM:-0600
TZOFFSETTO:-0500
TZNAME:CDT
DTSTART:20260308T080000
END:DAYLIGHT
BEGIN:STANDARD
TZOFFSETFROM:-0500
TZOFFSETTO:-0600
TZNAME:CST
DTSTART:20261101T070000
END:STANDARD
BEGIN:DAYLIGHT
TZOFFSETFROM:-0600
TZOFFSETTO:-0500
TZNAME:CDT
DTSTART:20270314T080000
END:DAYLIGHT
BEGIN:STANDARD
TZOFFSETFROM:-0500
TZOFFSETTO:-0600
TZNAME:CST
DTSTART:20271107T070000
END:STANDARD
END:VTIMEZONE
BEGIN:VEVENT
DTSTART;TZID=America/Chicago:20260501T190000
DTEND;TZID=America/Chicago:20260501T203000
DTSTAMP:20260422T142954
CREATED:20250316T195713Z
LAST-MODIFIED:20260422T152043Z
UID:3372-1777662000-1777667400@plumblinem.com
SUMMARY:Advance Training In the Prophetic
DESCRIPTION:Do You Long to Hear God’s Voice More Clearly and Minister Prophetically with Confidence?\nYou’re a believer who feels called to understand and operate in the prophetic. You desire to grow in discerning God’s voice\, but it’s challenging to know where to start\, or maybe you’re unsure of how to minister prophetically in a way that’s grounded in Scripture and led by the Holy Spirit. \n\nAt Plumbline Ministries\, we believe every believer can hear God’s voice and grow in prophetic gifting. \nLed by seasoned prophetic teacher Brian Fenimore\, our School for the Prophetic has helped countless believers like you become confident in ministering prophetically\, gaining clarity\, and learning to minister with wisdom\, grace\, and authority. \nEnroll in the School for the Prophetic\nReceive access to an in-depth\, structured course designed to take you from foundational principles to advanced prophetic ministry.
URL:https://plumblinem.com/event/advance-training-in-the-prophetic/
LOCATION:Bridgeway Church\, 5201 E Warren Ave.\, Denver\, CO\, 80222\, United States
CATEGORIES:Outreach
ATTACH;FMTTYPE=image/png:https://plumblinem.com/wp-content/uploads/2025/01/Screen-Shot-2019-06-27-at-12.00.24-PM.png
END:VEVENT
END:VCALENDAR