BEGIN:VCALENDAR
VERSION:2.0
PRODID:-//Plumbline Ministries - ECPv6.15.20//NONSGML v1.0//EN
CALSCALE:GREGORIAN
METHOD:PUBLISH
X-WR-CALNAME:Plumbline Ministries
X-ORIGINAL-URL:https://plumblinem.com
X-WR-CALDESC:Events for Plumbline Ministries
REFRESH-INTERVAL;VALUE=DURATION:PT1H
X-Robots-Tag:noindex
X-PUBLISHED-TTL:PT1H
BEGIN:VTIMEZONE
TZID:America/Chicago
BEGIN:DAYLIGHT
TZOFFSETFROM:-0600
TZOFFSETTO:-0500
TZNAME:CDT
DTSTART:20250309T080000
END:DAYLIGHT
BEGIN:STANDARD
TZOFFSETFROM:-0500
TZOFFSETTO:-0600
TZNAME:CST
DTSTART:20251102T070000
END:STANDARD
BEGIN:DAYLIGHT
TZOFFSETFROM:-0600
TZOFFSETTO:-0500
TZNAME:CDT
DTSTART:20260308T080000
END:DAYLIGHT
BEGIN:STANDARD
TZOFFSETFROM:-0500
TZOFFSETTO:-0600
TZNAME:CST
DTSTART:20261101T070000
END:STANDARD
BEGIN:DAYLIGHT
TZOFFSETFROM:-0600
TZOFFSETTO:-0500
TZNAME:CDT
DTSTART:20270314T080000
END:DAYLIGHT
BEGIN:STANDARD
TZOFFSETFROM:-0500
TZOFFSETTO:-0600
TZNAME:CST
DTSTART:20271107T070000
END:STANDARD
END:VTIMEZONE
BEGIN:VEVENT
DTSTART;TZID=America/Chicago:20260430T190000
DTEND;TZID=America/Chicago:20260430T210000
DTSTAMP:20260422T143331
CREATED:20260106T172830Z
LAST-MODIFIED:20260422T152000Z
UID:3961-1777575600-1777582800@plumblinem.com
SUMMARY:Advancing the Kingdom of God
DESCRIPTION:Advancing the Kingdom of God is the mission of every believer\, rooted in Jesus’ command to proclaim the gospel\, make disciples\, and live in obedience to His teachings. It reflects God’s desire to establish His rule and reign on earth\, bringing His love\, righteousness\, and justice into every sphere of life. \nKey Aspects of Advancing the Kingdom:\n\nProclaiming the Gospel:\nThe Kingdom of God is advanced when the good news of Jesus Christ is shared with others. Evangelism\, both through words and actions\, reveals God’s transformative power to a broken and lost world.\nLiving Out Kingdom Values:\nDemonstrating Christ-like character—such as love\, humility\, forgiveness\, and compassion—shows the reality of God’s Kingdom in everyday life. Believers are called to be salt and light\, influencing the world around them with the truth of God’s Word.\nEmpowering the Church:\nThe Church is the body of Christ\, entrusted with the mission of advancing His Kingdom. Through discipleship\, teaching\, and community\, believers are equipped to grow spiritually and fulfill their God-given purpose.\nSpiritual Warfare:\nAdvancing the Kingdom involves confronting spiritual darkness through prayer\, faith\, and the power of the Holy Spirit. This includes breaking strongholds\, bringing deliverance\, and establishing God’s truth in areas of deception.\nServing Others:\nActs of service and generosity reflect the heart of God’s Kingdom. By meeting the physical\, emotional\, and spiritual needs of others\, believers display the love and compassion of Christ.\nCultural Transformation:\nThe Kingdom of God is not confined to church walls but extends into every area of society. By pursuing excellence\, integrity\, and justice in workplaces\, communities\, and governments\, believers bring God’s influence into the world.\n\nThe Promise of the Kingdom:\nAdvancing the Kingdom is both a present and future reality. While believers work to establish God’s will on earth\, they do so with the hope of Christ’s return\, when His Kingdom will be fully realized in power and glory. \nThis mission calls for unity\, perseverance\, and faith as believers partner with the Holy Spirit to bring God’s love\, truth\, and redemption to every corner of the earth.
URL:https://plumblinem.com/event/advancing-the-kingdom-of-god/
LOCATION:The Road\, 2025 Parliament Dr\, Colorado Springs\, CO\, 80920\, United States
CATEGORIES:Outreach
ATTACH;FMTTYPE=image/png:https://plumblinem.com/wp-content/uploads/2026/01/Screenshot-2026-01-06-at-11.26.50-AM.png
END:VEVENT
END:VCALENDAR