BEGIN:VCALENDAR
VERSION:2.0
PRODID:-//Plumbline Ministries - ECPv6.15.20//NONSGML v1.0//EN
CALSCALE:GREGORIAN
METHOD:PUBLISH
X-WR-CALNAME:Plumbline Ministries
X-ORIGINAL-URL:https://plumblinem.com
X-WR-CALDESC:Events for Plumbline Ministries
REFRESH-INTERVAL;VALUE=DURATION:PT1H
X-Robots-Tag:noindex
X-PUBLISHED-TTL:PT1H
BEGIN:VTIMEZONE
TZID:America/Chicago
BEGIN:DAYLIGHT
TZOFFSETFROM:-0600
TZOFFSETTO:-0500
TZNAME:CDT
DTSTART:20250309T080000
END:DAYLIGHT
BEGIN:STANDARD
TZOFFSETFROM:-0500
TZOFFSETTO:-0600
TZNAME:CST
DTSTART:20251102T070000
END:STANDARD
BEGIN:DAYLIGHT
TZOFFSETFROM:-0600
TZOFFSETTO:-0500
TZNAME:CDT
DTSTART:20260308T080000
END:DAYLIGHT
BEGIN:STANDARD
TZOFFSETFROM:-0500
TZOFFSETTO:-0600
TZNAME:CST
DTSTART:20261101T070000
END:STANDARD
BEGIN:DAYLIGHT
TZOFFSETFROM:-0600
TZOFFSETTO:-0500
TZNAME:CDT
DTSTART:20270314T080000
END:DAYLIGHT
BEGIN:STANDARD
TZOFFSETFROM:-0500
TZOFFSETTO:-0600
TZNAME:CST
DTSTART:20271107T070000
END:STANDARD
END:VTIMEZONE
BEGIN:VEVENT
DTSTART;TZID=America/Chicago:20260515T190000
DTEND;TZID=America/Chicago:20260515T210000
DTSTAMP:20260422T173830
CREATED:20150917T001709Z
LAST-MODIFIED:20260422T152331Z
UID:442-1778871600-1778878800@plumblinem.com
SUMMARY:Becoming a Prayer Warrior
DESCRIPTION:Becoming a prayer warrior is about developing a deep\, consistent\, and powerful prayer life that aligns with God’s purposes and advances His Kingdom. A prayer warrior is someone who stands in faith\, intercedes for others\, and fights spiritual battles through the power of prayer. \nKey Aspects of Becoming a Prayer Warrior:\n\nUnderstanding the Power of Prayer:\nPrayer is a direct line of communication with God and a vital weapon in spiritual warfare. It is through prayer that believers seek God’s guidance\, align with His will\, and see His power manifest in their lives and the world.\nGrowing in Relationship with God:\nPrayer warriors prioritize intimacy with God\, spending time in His presence to know His heart and voice. This relationship fuels their passion for prayer and deepens their trust in His promises.\nInterceding for Others:\nA prayer warrior stands in the gap for individuals\, communities\, and nations. They bring the needs of others before God\, believing in His power to bring healing\, restoration\, and breakthrough.\nPraying with Scripture:\nEffective prayer warriors use God’s Word as their foundation. Praying Scripture aligns their requests with God’s will\, strengthens faith\, and declares His truth over situations.\nEngaging in Spiritual Warfare:\nPrayer warriors recognize the reality of spiritual battles and stand firm against the schemes of the enemy. They pray with authority\, relying on the armor of God (Ephesians 6:10-18) and the guidance of the Holy Spirit.\nMaintaining Perseverance and Faith:\nPrayer warriors are persistent\, trusting God even when answers are delayed. They remain steadfast\, knowing that God’s timing and purposes are perfect.\nBuilding a Lifestyle of Prayer:\nBecoming a prayer warrior is not about occasional prayers but cultivating a life of consistent and fervent prayer. This involves setting aside dedicated times for prayer\, remaining in a posture of prayer throughout the day\, and joining with others in corporate prayer.\n\nThe Impact of a Prayer Warrior:\nPrayer warriors play a critical role in advancing God’s Kingdom\, bringing His peace\, power\, and presence into every situation. Their prayers not only change circumstances but also transform their own hearts\, aligning them with God’s purposes and strengthening their faith. \nAnyone can become a prayer warrior by committing to a life of prayer\, seeking God’s presence\, and believing in the power of prayer to make a difference.
URL:https://plumblinem.com/event/becoming-a-prayer-warrior/
LOCATION:North Branch\, 6355 379th St.\, North Branch\, MN\, 55056\, United States
CATEGORIES:Outreach
ATTACH;FMTTYPE=image/png:https://plumblinem.com/wp-content/uploads/2015/09/plumbline-ministries-copy-8.png
ORGANIZER;CN="Plumbline Ministries":MAILTO:bfplumbline@mac.com
END:VEVENT
BEGIN:VEVENT
DTSTART;TZID=America/Chicago:20260517T100000
DTEND;TZID=America/Chicago:20260517T120000
DTSTAMP:20260422T173830
CREATED:20150916T234729Z
LAST-MODIFIED:20260422T152418Z
UID:438-1779012000-1779019200@plumblinem.com
SUMMARY:Sunday Morning Service
DESCRIPTION:Plumbline Ministries hosts a variety of events designed to equip\, empower\, and encourage believers to grow in their faith and live out their God-given purpose. These events typically focus on themes such as spiritual formation\, prophetic ministry\, healing\, and discipleship. Here’s a summary of what these events might entail: \nKey Elements of Plumbline Events:\n\nTeaching and Training:\nSessions are centered around biblical truths and practical application\, helping attendees deepen their understanding of God’s Word and its relevance to daily life. Topics may include prophetic ministry\, the gifts of the Spirit\, inner healing\, and leadership development.\nWorship and Prayer:\nTimes of Spirit-led worship and corporate prayer are integrated into the events\, creating an atmosphere of encountering God’s presence.\nWorkshops and Breakout Sessions:\nInteractive sessions allow participants to engage in small group discussions\, ask questions\, and receive personal ministry or mentoring.\nHealing and Restoration:\nMany events include opportunities for inner healing\, prayer ministry\, and counseling\, focusing on breaking free from emotional or spiritual strongholds.\nEquipping Leaders:\nSpecific training is offered for pastors\, ministry leaders\, and church members to effectively serve and disciple others within their local communities.\n\nNotable Types of Events:\n\nConferences: Multi-day gatherings focused on specific themes such as prophetic ministry or spiritual warfare.\nWorkshops: Hands-on training in areas like hearing God’s voice\, intercessory prayer\, and practical ministry.\nOne-Day Training Sessions: Condensed teaching and ministry opportunities\, such as the upcoming November 2 training\, held from 10 a.m. to 3 p.m.\nMentorship Programs: Extended training for individuals seeking deeper discipleship and personal growth.\n\nPlumbline events are marked by a balance of solid biblical teaching\, Spirit-filled ministry\, and an emphasis on personal and communal transformation. Each event is designed to inspire attendees to step into their identity in Christ and impact the world around them.
URL:https://plumblinem.com/event/faith-conference/
LOCATION:Church on the hill\, 950 Trumble Street\, Chaska\, 55318\, United States
CATEGORIES:Outreach
ATTACH;FMTTYPE=image/png:https://plumblinem.com/wp-content/uploads/2015/09/Sunday-Service-YouTube-Thumbnail.png
ORGANIZER;CN="Plumbline Ministries":MAILTO:bfplumbline@mac.com
END:VEVENT
BEGIN:VEVENT
DTSTART;TZID=America/Chicago:20260517T173000
DTEND;TZID=America/Chicago:20260517T190000
DTSTAMP:20260422T173830
CREATED:20150916T213923Z
LAST-MODIFIED:20260422T152457Z
UID:432-1779039000-1779044400@plumblinem.com
SUMMARY:School For The Prophetic
DESCRIPTION:The School for the Prophetic is a transformative training program designed to equip believers with the tools and understanding necessary to grow in the prophetic ministry. Rooted in biblical principles and led by experienced teachers\, the school focuses on helping participants hear God’s voice\, discern His guidance\, and communicate His heart effectively to others. \nProgram Highlights:\n\nBiblical Foundations:\nGain a deep understanding of the biblical basis for prophecy\, its role in the Church\, and its purpose in strengthening\, encouraging\, and comforting believers.\nHearing God’s Voice:\nLearn practical steps for cultivating an attentive heart to hear God’s voice clearly and consistently.\nProphetic Activation:\nEngage in hands-on exercises and workshops designed to activate and sharpen your prophetic gifts in a safe\, Spirit-led environment.\nDiscernment and Wisdom:\nExplore how to discern the authenticity of prophetic words\, test them against Scripture\, and deliver them with love and humility.\nServing the Church:\nUnderstand how to integrate prophetic ministry within the local church\, build unity\, and serve leaders with prophetic insight.\nOvercoming Barriers:\nAddress common challenges\, such as fear\, doubt\, and misinterpretation\, to grow in confidence and faithfulness in prophetic ministry.\n\nWhat to Expect:\n\nInteractive teaching sessions led by seasoned prophetic ministers.\nTimes of worship and prayer to create an atmosphere for encountering God.\nSmall group discussions and personal ministry to encourage growth and accountability.\nPractical tools and strategies for developing a lifestyle of hearing and responding to God’s voice.\n\nWhether you are new to prophetic ministry or looking to deepen your gifting\, the School for the Prophetic offers a comprehensive and Spirit-empowered approach to help you step into your calling with confidence and clarity. This program is an invitation to partner with God in bringing His truth\, encouragement\, and love to a world in need.
URL:https://plumblinem.com/event/school-for-the-prophetic/
LOCATION:Inver Hill\, 8265 Babcock Trail\, Inver Grove Heights\, MN\, 55077\, United States
CATEGORIES:Outreach
ATTACH;FMTTYPE=image/png:https://plumblinem.com/wp-content/uploads/2015/09/Screenshot-2026-03-19-at-12.27.36-PM.png
ORGANIZER;CN="Plumbline Ministries":MAILTO:bfplumbline@mac.com
END:VEVENT
END:VCALENDAR